Workbook
Name area: #REF!
Name area: #REF!
Name area: #REF!
Name area: #REF!
Name AVGRATE: #REF!
Name AVGRATE: #REF!
Name AVGRATE: #REF!
Name AVGRATE: #REF!
Name DATE: #REF!
Name DATE: #REF!
Name DATE: #REF!
Name DATE: #REF!
Name dater: #REF!
Name dater: #REF!
Name dater: #REF!
Name dater: #REF!
Name FINISH: #REF!
Name FINISH: #REF!
Name FINISH: #REF!
Name FINISH: #REF!
Name MARK: #REF!
Name MARK: #REF!
Name MARK: #REF!
Name MARK: #REF!
Name more: #REF!
Name more: #REF!
Name more: #REF!
Name more: #REF!
Name SLOPE: #REF!
Name SLOPE: #REF!
Name SLOPE: #REF!
Name SLOPE: #REF!
Name START: #REF!
Name START: #REF!
Name START: #REF!
Name START: #REF!
Name SUMDATE: #REF!
Name SUMDATE: #REF!
Name SUMDATE: #REF!
Name SUMDATE: #REF!

Sheet Calculations
A1: License | B1: A74910
A2: CP | B2: 645
A3: Timber Mark | B3: BJ4645
A4: District | B4: Kamloops
A8: Summary of Compilation Information:
A10: Block | B10: Net Area (ha)
A11: SPL004 | B11: 27.7
A12: SPL013 | B12: 12.1
A13: SPL014 | B13: 7.1
A14: SPL016 | B14: 44.6
A15: SPL019 | B15: 8.4
B16: =SUM(B11:B15) -> 99.9
A18: 6) Volume to be Harvested (from reduced comp):
A20: Block | B20: Hectares | C20: Net Merch Conifer Volume | D20: Total Volume | E20: Method | F20: Delay
A21: =A11 -> SPL004 | B21: =B11 -> 27.7 | C21: 9868 | D21: 9871 | E21: Skid | F21: 1
A22: =A12 -> SPL013 | B22: =B12 -> 12.1 | C22: 4225 | D22: 4225 | E22: Skid | F22: 1
A23: =A13 -> SPL014 | B23: =B13 -> 7.1 | C23: 3275 | D23: 3275 | E23: Skid | F23: 1
A24: =A14 -> SPL016 | B24: =B14 -> 44.6 | C24: 18193 | D24: 18192 | E24: Skid | F24: 1 | G24: reduced total volume by 1m3
A25: =A15 -> SPL019 | B25: =B15 -> 8.4 | C25: 2705 | D25: 2705 | E25: Skid | F25: 1
A26: Total | B26: =SUM(B21:B25) -> 99.9 | C26: =SUM(C21:C25) -> 38266 | D26: =SUM(D21:D25) -> 38268 | F26: =SUMPRODUCT(F21:F25,D21:D25)/D26 -> 1
A29: Species | B29: Net Merch.
B30: Cruise Vol.
A31: Balsam | B31: 7331
A32: Cedar | B32: 1214
A33: Douglas Fir | B33: 9366
A34: Hemlock | B34: 0
A35: Lodgepole | B35: 7445
A36: Spruce | B36: 12910 | C36: - 1m3
A37: White Pine | B37: 0
A38: Aspen | B38: 2
A39: Birch | B39: 0
A40: Cottonwood | B40: 0
A41: Total Conifer | B41: =SUM(B31:B37) -> 38266
A42: Total Volume | B42: =SUM(B31:B40) -> 38268

Sheet Silviculture
A1: Block | B1: Area | D1: Area
A2: =Calculations!A11 -> SPL004 | B2: =Calculations!B11 -> 27.7 | C2: ICHmw3 | D2: =B2 -> 27.7
A3: =Calculations!A12 -> SPL013 | B3: =Calculations!B12 -> 12.1 | C3: ESSF dc2 | D3: =B3 -> 12.1
A4: =Calculations!A13 -> SPL014 | B4: 7.1 | C4: ESSF dc2 | D4: =B4 -> 7.1
A5: =Calculations!A14 -> SPL016 | B5: =Calculations!B14 -> 44.6 | C5: ICHmw3 | D5: =B5 -> 44.6
A6: =Calculations!A15 -> SPL019 | B6: =Calculations!B15 -> 8.4 | C6: ICHmw3 | D6: =B6 -> 8.4
B8: =SUM(B2:B7) -> 99.9 | D8: =SUM(D2:D6) -> 99.9
C10: =C2 -> ICHmw3 | D10: =D2+D5+D6 -> 80.7 | E10: =D10/D12 -> 0.80780781
C11: ESSF dc2 | D11: =D3+D4 -> 19.2 | E11: =D11/D12 -> 0.19219219
C12: Total | D12: =SUM(D10:D11) -> 99.9 | E12: =SUM(E10:E11) -> 1
A14: *Using Cross over tables the ICHdw3 becomes ICHmw3 for appraisal cost purposes
A16: Root Disease Summary (see attached tabs for detailed calculation information)
A17: Block | B17: Type | C17: Area | D17: Total Cost
A18: ='Type 4 root disease'!B7 -> SPL004 | B18: ='Type 4 root disease'!F7 -> 4 | C18: ='Type 4 root disease'!F8 -> 4 | D18: ='Type 4 root disease'!G44 -> 7900.5772
A19: ='Type 14 root disease'!B7 -> SPL004 | B19: ='Type 14 root disease'!F7 -> 14 | C19: ='Type 14 root disease'!F8 -> 12.6 | D19: ='Type 14 root disease'!G44 -> 21808.524
A20: ='Type 16 root disease'!B7 -> SPL016 | B20: ='Type 16 root disease'!F7 -> 16 | C20: ='Type 16 root disease'!F8 -> 20.6 | D20: ='Type 16 root disease'!G44 -> 37300.009
A21: ='Type 26 root disease'!B7 -> SPL016 | B21: ='Type 26 root disease'!F7 -> 26 | C21: ='Type 26 root disease'!F8 -> 4.5 | D21: ='Type 26 root disease'!G44 -> 4009.0751
A22: =sheet1!B7 | B22: =sheet1!F7 | C22: =sheet1!F8
A23: =sheet2!B7 | B23: =sheet2!F7 | C23: =sheet2!F8
A24: =sheet3!B7 | B24: =sheet3!F7 | C24: =SUM(C18:C21) -> 41.7 | D24: =SUM(D18:D21) -> 71018.185
A25: =sheet4!B7 | B25: =sheet4!F7 | C25: =sheet4!F8
A26: =sheet5!B7 | B26: =sheet5!F7 | C26: =sheet5!F8
A27: =sheet6!B7 | B27: =sheet6!F7 | C27: =sheet6!F8
A28: =sheet7!B7 | B28: =sheet7!F7 | C28: =sheet7!F8

Sheet Cycle
A1: CP WEIGHTED ROAD CYCLE TIME TO COMMON POINT
A3: Cutblock | B3: Volume | C3: % | D3: Distance | E3: Speed | G3: Time (hr) | I3: Total | J3: Weighted | K3: Weighted
B4: (m3) | D4: (km) | E4: L | F4: E | G4: L | H4: E | I4: (hr) | J4: Time | K4: Distance
A5: =Calculations!A11 -> SPL004
A6: SPL.400 | D6: 0.841 | E6: 15 | F6: 20 | G6: =D6/E6 -> 0.056066667 | H6: =D6/F6 -> 0.04205 | I6: =H6+G6 -> 0.098116667
A7: Block Total | B7: =Calculations!D21 -> 9871 | C7: =B7/$B$26 -> 0.25794397 | D7: =SUM(D6:D6) -> 0.841 | I7: =SUM(I6:I6) -> 0.098116667 | J7: =I7*C7 -> 0.025308603 | K7: =D7*C7 -> 0.21693088
A8: SPL013
A9: 564Road | D9: 7.398 | E9: 15 | F9: 25 | G9: =D9/E9 -> 0.4932 | H9: =D9/F9 -> 0.29592 | I9: =H9+G9 -> 0.78912
A10: SPL.1300 | D10: 1.128 | E10: 15 | F10: 20 | G10: =D10/E10 -> 0.0752 | H10: =D10/F10 -> 0.0564 | I10: =H10+G10 -> 0.1316
A11: Block Total | B11: =Calculations!D22 -> 4225 | C11: =B11/$B$26 -> 0.11040556 | D11: =SUM(D9:D10) -> 8.526 | I11: =SUM(I9:I10) -> 0.92072 | J11: =I11*C11 -> 0.10165261 | K11: =D11*C11 -> 0.94131781
A12: SPL014
A13: 564Road | D13: 7.398 | E13: 15 | F13: 25 | G13: =D13/E13 -> 0.4932 | H13: =D13/F13 -> 0.29592 | I13: =H13+G13 -> 0.78912
A14: SPL.1300 | D14: 0.407 | E14: 15 | F14: 20 | G14: =D14/E14 -> 0.027133333 | H14: =D14/F14 -> 0.02035 | I14: =H14+G14 -> 0.047483333
A15: Block Total | B15: =Calculations!D23 -> 3275 | C15: =B15/$B$26 -> 0.085580642 | D15: =SUM(D13:D14) -> 7.805 | I15: =SUM(I13:I14) -> 0.83660333 | J15: =I15*C15 -> 0.07159705 | K15: =D15*C15 -> 0.66795691
A16: SPL016
A17: 564Road | D17: 7.056 | E17: 15 | F17: 25 | G17: =D17/E17 -> 0.4704 | H17: =D17/F17 -> 0.28224 | I17: =H17+G17 -> 0.75264
A18: SPL.1500 | D18: 0.638 | E18: 15 | F18: 20 | G18: =D18/E18 -> 0.042533333 | H18: =D18/F18 -> 0.0319 | I18: =H18+G18 -> 0.074433333
A19: Block Total | B19: =Calculations!D24 -> 18192 | C19: =B19/$B$26 -> 0.47538413 | D19: =SUM(D17:D18) -> 7.694 | I19: =SUM(I17:I18) -> 0.82707333 | J19: =I19*C19 -> 0.39317754 | K19: =D19*C19 -> 3.6576055
A20: SPL019
A21: 564Road | D21: 6.367 | E21: 15 | F21: 25 | G21: =D21/E21 -> 0.42446667 | H21: =D21/F21 -> 0.25468 | I21: =H21+G21 -> 0.67914667
A22: 564South | D22: 0.84 | E22: 15 | F22: 25 | G22: =D22/E22 -> 0.056 | H22: =D22/F22 -> 0.0336 | I22: =H22+G22 -> 0.0896
A23: SPL.1900 | D23: 0.279 | E23: 15 | F23: 20 | G23: =D23/E23 -> 0.0186 | H23: =D23/F23 -> 0.01395 | I23: =H23+G23 -> 0.03255
A25: Block Total | B25: =Calculations!D25 -> 2705 | C25: =B25/$B$26 -> 0.07068569 | D25: =SUM(D21:D24) -> 7.486 | I25: =SUM(I21:I24) -> 0.80129667 | J25: =I25*C25 -> 0.056640208 | K25: =D25*C25 -> 0.52915308
A26: Grand Totals | B26: =B7+B11+B25+B15+B19 -> 38268 | C26: =C7+C11+C25+C15+C19 -> 1 | J26: =J7+J11+J25+J15+J19 -> 0.64837601 | K26: =K7+K11+K25+K15+K19 -> 6.0129642
B29: Distance | C29: Speed | E29: Time (hr) | G29: Total
B30: (km) | C30: L | D30: E | E30: L | F30: E | G30: (hr)
A31: Common Junction to all blocks | B31: =K26 -> 6.0129642 | G31: =J26 -> 0.64837601
A32: 564 Road | B32: 13.929 | C32: 15 | D32: 25 | E32: =B32/C32 -> 0.9286 | F32: =B32/D32 -> 0.55716 | G32: =E32+F32 -> 1.48576
A33: Spillman FSR | B33: 8.5 | C33: 25 | D33: 30 | E33: =B33/C33 -> 0.34 | F33: =B33/D33 -> 0.28333333 | G33: =E33+F33 -> 0.62333333
A34: 40 Road | B34: 14.211 | C34: 20 | D34: 30 | E34: =B34/C34 -> 0.71055 | F34: =B34/D34 -> 0.4737 | G34: =E34+F34 -> 1.18425
A35: Adams North Dump Road | B35: 0.5 | C35: 10 | D35: 20 | E35: =B35/C35 -> 0.05 | F35: =B35/D35 -> 0.025 | G35: =E35+F35 -> 0.075
A37: Total | B37: =SUM(B31:B35) -> 43.152964 | G37: =SUM(G31:G35) -> 4.0167193
A38: Unavoidable Delay | G38: 1
A39: Cycle Distance and Time | B39: =B37 -> 43.152964 | G39: =G37+G38 -> 5.0167193
A41: Common Junction is at the start of the SPL.400 Road (junction with the 564 Road)
B42: LOA.120 | C42: 1877
B43: LOA.121 | C43: 201
B44: LOA.123 | C44: 145
B45: LOA.124 | C45: 353
B46: LOA.125 | C46: 125

Sheet Type 4 root disease
D1: ROOT DISEASE CONTROL
D3: Valid July 1, 2015
D4: End Date subject to IAM amendments and machine rate changes.
A5: DISTRICT | B5: Kamloops | E5: RUN DATE ------ | F5: =NOW() -> 42739.562
A6: MARK | B6: =Calculations!B3 -> BJ4645 | E6: EFFECTIVE DATE ------ | F6: =F5 -> 42739.562
A7: BLOCK | B7: SPL004 | E7: TIMBER TYPE ------- | F7: 4
A8: ROOT DISEASE HECTARES TO BE TREATED -------------- | F8: 4 | G8: Hectares
A10: * Lodgepole pine stems 15 cm dbh class all others 20 cm dbh class
A11: ** Use Timber Type Stems/Ha information from Total Stem Compilation.
A12: ***Live Deciduous may be combined with Live Conifers in Live Conifer column.
B13: TIMBER TYPE STEMS PER HECTARE ** | F13: TOTAL | G13: TOTAL
A14: DIAMETER | B14: LIVE | C14: LIVE*** | D14: DEAD | E14: DEAD | F14: STEMS | G14: STEMS X
A15: CLASS | B15: CONIFER* | C15: DECIDUOUS | D15: POTENTIAL* | E15: USELESS* | F15: (x2 @ 35cm.) | G15: DIAMETER
A16: 15 | F16: =B16+C16+D16+E16 -> 0 | G16: =(F16*A16) -> 0
A17: 20 | D17: 254.6 | F17: =B17+C17+D17+E17 -> 254.6 | G17: =(F17*A17) -> 5092
A18: 25 | B18: 226.1 | F18: =B18+C18+D18+E18 -> 226.1 | G18: =(F18*A18) -> 5652.5
A19: 30 | B19: 170.2 | F19: =B19+C19+D19+E19 -> 170.2 | G19: =(F19*A19) -> 5106
A20: 35 | B20: 38.4 | F20: =(B20+C20+D20+E20)*2 -> 76.8 | G20: =(F20*A20) -> 2688
A21: 40 | B21: 158.4 | F21: =(B21+C21+D21+E21)*2 -> 316.8 | G21: =(F21*A21) -> 12672
A22: 45 | B22: 50.8 | F22: =(B22+C22+D22+E22)*2 -> 101.6 | G22: =(F22*A22) -> 4572
A23: 50 | F23: =(B23+C23+D23+E23)*2 -> 0 | G23: =(F23*A23) -> 0
A24: 55 | F24: =(B24+C24+D24+E24)*2 -> 0 | G24: =(F24*A24) -> 0
A25: 60 | F25: =(B25+C25+D25+E25)*2 -> 0 | G25: =(F25*A25) -> 0
A26: 65 | F26: =(B26+C26+D26+E26)*2 -> 0 | G26: =(F26*A26) -> 0
A27: 70 | F27: =(B27+C27+D27+E27)*2 -> 0 | G27: =(F27*A27) -> 0
A28: 75 | F28: =(B28+C28+D28+E28)*2 -> 0 | G28: =(F28*A28) -> 0
A29: 80 | F29: =(B29+C29+D29+E29)*2 -> 0 | G29: =(F29*A29) -> 0
A30: 85 | F30: =(B30+C30+D30+E30)*2 -> 0 | G30: =(F30*A30) -> 0
A31: 90 | F31: =(B31+C31+D31+E31)*2 -> 0 | G31: =(F31*A31) -> 0
A32: 95 | F32: =(B32+C32+D32+E32)*2 -> 0 | G32: =(F32*A32) -> 0
A33: 100 | F33: =(B33+C33+D33+E33)*2 -> 0 | G33: =(F33*A33) -> 0
A34: 105 | F34: =(B34+C34+D34+E34)*2 -> 0 | G34: =(F34*A34) -> 0
... A38: 125 | F38: =(B38+C38+D38+E38)*2 -> 0 | G38: =(F38*A38) -> 0
A39: TOTAL | B39: =SUM(B16:B38) -> 643.9 | C39: =SUM(C16:C38) -> 0 | D39: =SUM(D16:D38) -> 254.6 | E39: =SUM(E16:E38) -> 0
J40: Machine Rates are from current IAM Appendix I and 2013/14 Blue Book
F41: TOTAL STEMS X DIA. ----------------------------------------- | G41: =SUM(G16:G38) -> 35782.5 | J41: Combined Cat 324E & Cat 329E = | M41: 397.43 | N41: 2
F42: HOURS PER HECTARE -------------------------------------- | G42: =(G41/3600) -> 9.9395833 | I42: =(G42*M42) -> 1975.1443 | L42: Avg. rate = | M42: =M41/N41 -> 198.715
A43: ROOT DISEASE COST PER HA.($600/HA Min.) ---------------------- | G43: =IF(I42<=600,600,I42) -> 1975.1443
F44: TOTAL COST ESTIMATE = | G44: =(G43*F8) -> 7900.5772
A47: SIGNATURE:

Sheet Type 14 root disease
D1: ROOT DISEASE CONTROL
D3: Valid July 1, 2015
D4: End Date subject to IAM amendments and machine rate changes.
A5: DISTRICT | B5: Kamloops | E5: RUN DATE ------ | F5: =NOW() -> 42739.562
A6: MARK | B6: =Calculations!B3 -> BJ4645 | E6: EFFECTIVE DATE ------ | F6: =F5 -> 42739.562
A7: BLOCK | B7: SPL004 | E7: TIMBER TYPE ------- | F7: 14
A8: ROOT DISEASE HECTARES TO BE TREATED -------------- | F8: 12.6 | G8: Hectares
A10: * Lodgepole pine stems 15 cm dbh class all others 20 cm dbh class
A11: ** Use Timber Type Stems/Ha information from Total Stem Compilation.
A12: ***Live Deciduous may be combined with Live Conifers in Live Conifer column.
B13: TIMBER TYPE STEMS PER HECTARE ** | F13: TOTAL | G13: TOTAL
A14: DIAMETER | B14: LIVE | C14: LIVE*** | D14: DEAD | E14: DEAD | F14: STEMS | G14: STEMS X
A15: CLASS | B15: CONIFER* | C15: DECIDUOUS | D15: POTENTIAL* | E15: USELESS* | F15: (x2 @ 35cm.) | G15: DIAMETER
A16: 15 | F16: =B16+C16+D16+E16 -> 0 | G16: =(F16*A16) -> 0
A17: 20 | B17: 38.1 | D17: 347 | E17: 124.7 | F17: =B17+C17+D17+E17 -> 509.8 | G17: =(F17*A17) -> 10196
A18: 25 | D18: 60.3 | F18: =B18+C18+D18+E18 -> 60.3 | G18: =(F18*A18) -> 1507.5
A19: 30 | B19: 104.1 | E19: 42.7 | F19: =B19+C19+D19+E19 -> 146.8 | G19: =(F19*A19) -> 4404
A20: 35 | B20: 39.6 | E20: 33.4 | F20: =(B20+C20+D20+E20)*2 -> 146 | G20: =(F20*A20) -> 5110
A21: 40 | F21: =(B21+C21+D21+E21)*2 -> 0 | G21: =(F21*A21) -> 0
A22: 45 | B22: 45.1 | F22: =(B22+C22+D22+E22)*2 -> 90.2 | G22: =(F22*A22) -> 4059
A23: 50 | B23: 21.1 | F23: =(B23+C23+D23+E23)*2 -> 42.2 | G23: =(F23*A23) -> 2110
A24: 55 | B24: 18.2 | F24: =(B24+C24+D24+E24)*2 -> 36.4 | G24: =(F24*A24) -> 2002
A25: 60 | B25: 16.4 | F25: =(B25+C25+D25+E25)*2 -> 32.8 | G25: =(F25*A25) -> 1968
A26: 65 | F26: =(B26+C26+D26+E26)*2 -> 0 | G26: =(F26*A26) -> 0
A27: 70 | F27: =(B27+C27+D27+E27)*2 -> 0 | G27: =(F27*A27) -> 0
A28: 75 | F28: =(B28+C28+D28+E28)*2 -> 0 | G28: =(F28*A28) -> 0
A29: 80 | F29: =(B29+C29+D29+E29)*2 -> 0 | G29: =(F29*A29) -> 0
A30: 85 | F30: =(B30+C30+D30+E30)*2 -> 0 | G30: =(F30*A30) -> 0
A31: 90 | F31: =(B31+C31+D31+E31)*2 -> 0 | G31: =(F31*A31) -> 0
A32: 95 | F32: =(B32+C32+D32+E32)*2 -> 0 | G32: =(F32*A32) -> 0
A33: 100 | F33: =(B33+C33+D33+E33)*2 -> 0 | G33: =(F33*A33) -> 0
A34: 105 | F34: =(B34+C34+D34+E34)*2 -> 0 | G34: =(F34*A34) -> 0
A35: 110 | F35: =(B35+C35+D35+E35)*2 -> 0 | G35: =(F35*A35) -> 0
A36: 115 | F36: =(B36+C36+D36+E36)*2 -> 0 | G36: =(F36*A36) -> 0
A37: 120 | F37: =(B37+C37+D37+E37)*2 -> 0 | G37: =(F37*A37) -> 0
A38: 125 | F38: =(B38+C38+D38+E38)*2 -> 0 | G38: =(F38*A38) -> 0
A39: TOTAL | B39: =SUM(B16:B38) -> 282.6 | C39: =SUM(C16:C38) -> 0 | D39: =SUM(D16:D38) -> 407.3 | E39: =SUM(E16:E38) -> 200.8
J40: Machine Rates are from current IAM Appendix I and 2013/14 Blue Book
F41: TOTAL STEMS X DIA. ----------------------------------------- | G41: =SUM(G16:G38) -> 31356.5 | J41: Combined Cat 324E & Cat 329E = | M41: 397.43 | N41: 2
F42: HOURS PER HECTARE -------------------------------------- | G42: =(G41/3600) -> 8.7101389 | I42: =(G42*M42) -> 1730.8352 | L42: Avg. rate = | M42: =M41/N41 -> 198.715
A43: ROOT DISEASE COST PER HA.($600/HA Min.) ---------------------- | G43: =IF(I42<=600,600,I42) -> 1730.8352
F44: TOTAL COST ESTIMATE = | G44: =(G43*F8) -> 21808.524
A47: SIGNATURE:

Sheet Type 16 root disease
D1: ROOT DISEASE CONTROL
D3: Valid July 1, 2015
D4: End Date subject to IAM amendments and machine rate changes.
A5: DISTRICT | B5: Kamloops | E5: RUN DATE ------ | F5: =NOW() -> 42739.562
A6: MARK | B6: =Calculations!B3 -> BJ4645 | E6: EFFECTIVE DATE ------ | F6: =F5 -> 42739.562
A7: BLOCK | B7: SPL016 | E7: TIMBER TYPE ------- | F7: 16
A8: ROOT DISEASE HECTARES TO BE TREATED -------------- | F8: 20.6 | G8: Hectares
A10: * Lodgepole pine stems 15 cm dbh class all others 20 cm dbh class
A11: ** Use Timber Type Stems/Ha information from Total Stem Compilation.
A12: ***Live Deciduous may be combined with Live Conifers in Live Conifer column.
B13: TIMBER TYPE STEMS PER HECTARE ** | F13: TOTAL | G13: TOTAL
A14: DIAMETER | B14: LIVE | C14: LIVE*** | D14: DEAD | E14: DEAD | F14: STEMS | G14: STEMS X
A15: CLASS | B15: CONIFER* | C15: DECIDUOUS | D15: POTENTIAL* | E15: USELESS* | F15: (x2 @ 35cm.) | G15: DIAMETER
A16: 15 | D16: 238 | F16: =B16+C16+D16+E16 -> 238 | G16: =(F16*A16) -> 3570
A17: 20 | B17: 348.3 | F17: =B17+C17+D17+E17 -> 348.3 | G17: =(F17*A17) -> 6966
A18: 25 | B18: 65.3 | D18: 32.5 | F18: =B18+C18+D18+E18 -> 97.8 | G18: =(F18*A18) -> 2445
A19: 30 | B19: 60.1 | D19: 50.6 | F19: =B19+C19+D19+E19 -> 110.7 | G19: =(F19*A19) -> 3321
A20: 35 | B20: 34.2 | F20: =(B20+C20+D20+E20)*2 -> 68.4 | G20: =(F20*A20) -> 2394
A21: 40 | B21: 61.1 | F21: =(B21+C21+D21+E21)*2 -> 122.2 | G21: =(F21*A21) -> 4888
A22: 45 | B22: 18.4 | F22: =(B22+C22+D22+E22)*2 -> 36.8 | G22: =(F22*A22) -> 1656
A23: 50 | B23: 30.3 | F23: =(B23+C23+D23+E23)*2 -> 60.6 | G23: =(F23*A23) -> 3030
A24: 55 | B24: 19.8 | F24: =(B24+C24+D24+E24)*2 -> 39.6 | G24: =(F24*A24) -> 2178
A25: 60 | B25: 3.8 | F25: =(B25+C25+D25+E25)*2 -> 7.6 | G25: =(F25*A25) -> 456
A26: 65 | F26: =(B26+C26+D26+E26)*2 -> 0 | G26: =(F26*A26) -> 0
A27: 70 | F27: =(B27+C27+D27+E27)*2 -> 0 | G27: =(F27*A27) -> 0
A28: 75 | B28: 2.6 | F28: =(B28+C28+D28+E28)*2 -> 5.2 | G28: =(F28*A28) -> 390
A29: 80 | B29: 6 | F29: =(B29+C29+D29+E29)*2 -> 12 | G29: =(F29*A29) -> 960
A30: 85 | F30: =(B30+C30+D30+E30)*2 -> 0 | G30: =(F30*A30) -> 0
A31: 90 | F31: =(B31+C31+D31+E31)*2 -> 0 | G31: =(F31*A31) -> 0
A32: 95 | B32: 1.5 | F32: =(B32+C32+D32+E32)*2 -> 3 | G32: =(F32*A32) -> 285
A33: 100 | F33: =(B33+C33+D33+E33)*2 -> 0 | G33: =(F33*A33) -> 0
A34: 105 | F34: =(B34+C34+D34+E34)*2 -> 0 | G34: =(F34*A34) -> 0
A35: 110 | B35: 1.2 | F35: =(B35+C35+D35+E35)*2 -> 2.4 | G35: =(F35*A35) -> 264
A36: 115 | F36: =(B36+C36+D36+E36)*2 -> 0 | G36: =(F36*A36) -> 0
A37: 120 | F37: =(B37+C37+D37+E37)*2 -> 0 | G37: =(F37*A37) -> 0
A38: 125 | F38: =(B38+C38+D38+E38)*2 -> 0 | G38: =(F38*A38) -> 0
A39: TOTAL | B39: =SUM(B16:B38) -> 652.6 | C39: =SUM(C16:C38) -> 0 | D39: =SUM(D16:D38) -> 321.1 | E39: =SUM(E16:E38) -> 0
J40: Machine Rates are from current IAM Appendix I and 2013/14 Blue Book
F41: TOTAL STEMS X DIA. ----------------------------------------- | G41: =SUM(G16:G38) -> 32803 | J41: Combined Cat 324E & Cat 329E = | M41: 397.43 | N41: 2
F42: HOURS PER HECTARE -------------------------------------- | G42: =(G41/3600) -> 9.1119444 | I42: =(G42*M42) -> 1810.68 | L42: Avg. rate = | M42: =M41/N41 -> 198.715
A43: ROOT DISEASE COST PER HA.($600/HA Min.) ---------------------- | G43: =IF(I42<=600,600,I42) -> 1810.68
F44: TOTAL COST ESTIMATE = | G44: =(G43*F8) -> 37300.009
A47: SIGNATURE:

Sheet Type 26 root disease
D1: ROOT DISEASE CONTROL
D3: Valid July 1, 2015
D4: End Date subject to IAM amendments and machine rate changes.
A5: DISTRICT | B5: Kamloops | E5: RUN DATE ------ | F5: =NOW() -> 42739.562
A6: MARK | B6: =Calculations!B3 -> BJ4645 | E6: EFFECTIVE DATE ------ | F6: =F5 -> 42739.562
A7: BLOCK | B7: SPL016 | E7: TIMBER TYPE ------- | F7: 26
A8: ROOT DISEASE HECTARES TO BE TREATED -------------- | F8: 4.5 | G8: Hectares
A10: * Lodgepole pine stems 15 cm dbh class all others 20 cm dbh class
A11: ** Use Timber Type Stems/Ha information from Total Stem Compilation.
A12: ***Live Deciduous may be combined with Live Conifers in Live Conifer column.
B13: TIMBER TYPE STEMS PER HECTARE ** | F13: TOTAL | G13: TOTAL
A14: DIAMETER | B14: LIVE | C14: LIVE*** | D14: DEAD | E14: DEAD | F14: STEMS | G14: STEMS X
A15: CLASS | B15: CONIFER* | C15: DECIDUOUS | D15: POTENTIAL* | E15: USELESS* | F15: (x2 @ 35cm.) | G15: DIAMETER
A16: 15 | F16: =B16+C16+D16+E16 -> 0 | G16: =(F16*A16) -> 0
A17: 20 | D17: 150.4 | F17: =B17+C17+D17+E17 -> 150.4 | G17: =(F17*A17) -> 3008
A18: 25 | F18: =B18+C18+D18+E18 -> 0 | G18: =(F18*A18) -> 0
A19: 30 | B19: 31.6 | F19: =B19+C19+D19+E19 -> 31.6 | G19: =(F19*A19) -> 948
A20: 35 | B20: 48.2 | D20: 44.8 | F20: =(B20+C20+D20+E20)*2 -> 186 | G20: =(F20*A20) -> 6510
A21: 40 | F21: =(B21+C21+D21+E21)*2 -> 0 | G21: =(F21*A21) -> 0
A22: 45 | F22: =(B22+C22+D22+E22)*2 -> 0 | G22: =(F22*A22) -> 0
A23: 50 | F23: =(B23+C23+D23+E23)*2 -> 0 | G23: =(F23*A23) -> 0
A24: 55 | B24: 36.2 | F24: =(B24+C24+D24+E24)*2 -> 72.4 | G24: =(F24*A24) -> 3982
A25: 60 | B25: 14.1 | F25: =(B25+C25+D25+E25)*2 -> 28.2 | G25: =(F25*A25) -> 1692
A26: 65 | F26: =(B26+C26+D26+E26)*2 -> 0 | G26: =(F26*A26) -> 0
A27: 70 | F27: =(B27+C27+D27+E27)*2 -> 0 | G27: =(F27*A27) -> 0
A28: 75 | F28: =(B28+C28+D28+E28)*2 -> 0 | G28: =(F28*A28) -> 0
A29: 80 | F29: =(B29+C29+D29+E29)*2 -> 0 | G29: =(F29*A29) -> 0
A30: 85 | F30: =(B30+C30+D30+E30)*2 -> 0 | G30: =(F30*A30) -> 0
A31: 90 | F31: =(B31+C31+D31+E31)*2 -> 0 | G31: =(F31*A31) -> 0
A32: 95 | F32: =(B32+C32+D32+E32)*2 -> 0 | G32: =(F32*A32) -> 0
A33: 100 | F33: =(B33+C33+D33+E33)*2 -> 0 | G33: =(F33*A33) -> 0
A34: 105 | F34: =(B34+C34+D34+E34)*2 -> 0 | G34: =(F34*A34) -> 0
A35: 110 | F35: =(B35+C35+D35+E35)*2 -> 0 | G35: =(F35*A35) -> 0
A36: 115 | F36: =(B36+C36+D36+E36)*2 -> 0 | G36: =(F36*A36) -> 0
A37: 120 | F37: =(B37+C37+D37+E37)*2 -> 0 | G37: =(F37*A37) -> 0
A38: 125 | F38: =(B38+C38+D38+E38)*2 -> 0 | G38: =(F38*A38) -> 0
A39: TOTAL | B39: =SUM(B16:B38) -> 130.1 | C39: =SUM(C16:C38) -> 0 | D39: =SUM(D16:D38) -> 195.2 | E39: =SUM(E16:E38) -> 0
J40: Machine Rates are from current IAM Appendix I and 2013/14 Blue Book
F41: TOTAL STEMS X DIA. ----------------------------------------- | G41: =SUM(G16:G38) -> 16140 | J41: Combined Cat 324E & Cat 329E = | M41: 397.43 | N41: 2
F42: HOURS PER HECTARE -------------------------------------- | G42: =(G41/3600) -> 4.4833333 | I42: =(G42*M42) -> 890.90558 | L42: Avg. rate = | M42: =M41/N41 -> 198.715
A43: ROOT DISEASE COST PER HA.($600/HA Min.) ---------------------- | G43: =IF(I42<=600,600,I42) -> 890.90558
F44: TOTAL COST ESTIMATE = | G44: =(G43*F8) -> 4009.0751
A47: SIGNATURE:

Sheet sheet1
D1: ROOT DISEASE CONTROL
D3: Valid July 1, 2015
D4: End Date subject to IAM amendments and machine rate changes.
A5: DISTRICT | B5: Kamloops | E5: RUN DATE ------ | F5: =NOW() -> 42739.562
A6: MARK | B6: =Calculations!B3 -> BJ4645 | E6: EFFECTIVE DATE ------ | F6: =F5 -> 42739.562
A7: BLOCK | E7: TIMBER TYPE -------
A8: ROOT DISEASE HECTARES TO BE TREATED -------------- | G8: Hectares
A10: * Lodgepole pine stems 15 cm dbh class all others 20 cm dbh class
A11: ** Use Timber Type Stems/Ha information from Total Stem Compilation.
A12: ***Live Deciduous may be combined with Live Conifers in Live Conifer column.
B13: TIMBER TYPE STEMS PER HECTARE ** | F13: TOTAL | G13: TOTAL
A14: DIAMETER | B14: LIVE | C14: LIVE*** | D14: DEAD | E14: DEAD | F14: STEMS | G14: STEMS X
A15: CLASS | B15: CONIFER* | C15: DECIDUOUS | D15: POTENTIAL* | E15: USELESS* | F15: (x2 @ 35cm.) | G15: DIAMETER
A16: 15 | F16: =B16+C16+D16+E16 -> 0 | G16: =(F16*A16) -> 0
A17: 20 | F17: =B17+C17+D17+E17 -> 0 | G17: =(F17*A17) -> 0
A18: 25 | F18: =B18+C18+D18+E18 -> 0 | G18: =(F18*A18) -> 0
A19: 30 | F19: =B19+C19+D19+E19 -> 0 | G19: =(F19*A19) -> 0
A20: 35 | F20: =(B20+C20+D20+E20)*2 -> 0 | G20: =(F20*A20) -> 0
A21: 40 | F21: =(B21+C21+D21+E21)*2 -> 0 | G21: =(F21*A21) -> 0
A22: 45 | F22: =(B22+C22+D22+E22)*2 -> 0 | G22: =(F22*A22) -> 0
A23: 50 | F23: =(B23+C23+D23+E23)*2 -> 0 | G23: =(F23*A23) -> 0
A24: 55 | F24: =(B24+C24+D24+E24)*2 -> 0 | G24: =(F24*A24) -> 0
A25: 60 | F25: =(B25+C25+D25+E25)*2 -> 0 | G25: =(F25*A25) -> 0
A26: 65 | F26: =(B26+C26+D26+E26)*2 -> 0 | G26: =(F26*A26) -> 0
A27: 70 | F27: =(B27+C27+D27+E27)*2 -> 0 | G27: =(F27*A27) -> 0
A28: 75 | F28: =(B28+C28+D28+E28)*2 -> 0 | G28: =(F28*A28) -> 0
A29: 80 | F29: =(B29+C29+D29+E29)*2 -> 0 | G29: =(F29*A29) -> 0
A30: 85 | F30: =(B30+C30+D30+E30)*2 -> 0 | G30: =(F30*A30) -> 0
A31: 90 | F31: =(B31+C31+D31+E31)*2 -> 0 | G31: =(F31*A31) -> 0
... A38: 125 | F38: =(B38+C38+D38+E38)*2 -> 0 | G38: =(F38*A38) -> 0
A39: TOTAL | B39: =SUM(B16:B38) -> 0 | C39: =SUM(C16:C38) -> 0 | D39: =SUM(D16:D38) -> 0 | E39: =SUM(E16:E38) -> 0
J40: Machine Rates are from current IAM Appendix I and 2013/14 Blue Book
F41: TOTAL STEMS X DIA. ----------------------------------------- | G41: =SUM(G16:G38) -> 0 | J41: Combined Cat 324E & Cat 329E = | M41: 397.43 | N41: 2
F42: HOURS PER HECTARE -------------------------------------- | G42: =(G41/3600) -> 0 | I42: =(G42*M42) -> 0 | L42: Avg. rate = | M42: =M41/N41 -> 198.715
A43: ROOT DISEASE COST PER HA.($600/HA Min.) ---------------------- | G43: =IF(I42<=600,600,I42) -> 600
F44: TOTAL COST ESTIMATE = | G44: =(G43*F8) -> #VALUE!
A47: SIGNATURE:

Sheet sheet2
D1: ROOT DISEASE CONTROL
D3: Valid July 1, 2015
D4: End Date subject to IAM amendments and machine rate changes.
A5: DISTRICT | B5: Kamloops | E5: RUN DATE ------ | F5: =NOW() -> 42739.562
A6: MARK | B6: =Calculations!B3 -> BJ4645 | E6: EFFECTIVE DATE ------ | F6: =F5 -> 42739.562
A7: BLOCK | E7: TIMBER TYPE -------
A8: ROOT DISEASE HECTARES TO BE TREATED -------------- | G8: Hectares
A10: * Lodgepole pine stems 15 cm dbh class all others 20 cm dbh class
A11: ** Use Timber Type Stems/Ha information from Total Stem Compilation.
A12: ***Live Deciduous may be combined with Live Conifers in Live Conifer column.
B13: TIMBER TYPE STEMS PER HECTARE ** | F13: TOTAL | G13: TOTAL
A14: DIAMETER | B14: LIVE | C14: LIVE*** | D14: DEAD | E14: DEAD | F14: STEMS | G14: STEMS X
A15: CLASS | B15: CONIFER* | C15: DECIDUOUS | D15: POTENTIAL* | E15: USELESS* | F15: (x2 @ 35cm.) | G15: DIAMETER
A16: 15 | F16: =B16+C16+D16+E16 -> 0 | G16: =(F16*A16) -> 0
A17: 20 | F17: =B17+C17+D17+E17 -> 0 | G17: =(F17*A17) -> 0
A18: 25 | F18: =B18+C18+D18+E18 -> 0 | G18: =(F18*A18) -> 0
A19: 30 | F19: =B19+C19+D19+E19 -> 0 | G19: =(F19*A19) -> 0
A20: 35 | F20: =(B20+C20+D20+E20)*2 -> 0 | G20: =(F20*A20) -> 0
A21: 40 | F21: =(B21+C21+D21+E21)*2 -> 0 | G21: =(F21*A21) -> 0
A22: 45 | F22: =(B22+C22+D22+E22)*2 -> 0 | G22: =(F22*A22) -> 0
A23: 50 | F23: =(B23+C23+D23+E23)*2 -> 0 | G23: =(F23*A23) -> 0
A24: 55 | F24: =(B24+C24+D24+E24)*2 -> 0 | G24: =(F24*A24) -> 0
A25: 60 | F25: =(B25+C25+D25+E25)*2 -> 0 | G25: =(F25*A25) -> 0
A26: 65 | F26: =(B26+C26+D26+E26)*2 -> 0 | G26: =(F26*A26) -> 0
A27: 70 | F27: =(B27+C27+D27+E27)*2 -> 0 | G27: =(F27*A27) -> 0
A28: 75 | F28: =(B28+C28+D28+E28)*2 -> 0 | G28: =(F28*A28) -> 0
A29: 80 | F29: =(B29+C29+D29+E29)*2 -> 0 | G29: =(F29*A29) -> 0
A30: 85 | F30: =(B30+C30+D30+E30)*2 -> 0 | G30: =(F30*A30) -> 0
A31: 90 | F31: =(B31+C31+D31+E31)*2 -> 0 | G31: =(F31*A31) -> 0
... A38: 125 | F38: =(B38+C38+D38+E38)*2 -> 0 | G38: =(F38*A38) -> 0
A39: TOTAL | B39: =SUM(B16:B38) -> 0 | C39: =SUM(C16:C38) -> 0 | D39: =SUM(D16:D38) -> 0 | E39: =SUM(E16:E38) -> 0
J40: Machine Rates are from current IAM Appendix I and 2013/14 Blue Book
F41: TOTAL STEMS X DIA. ----------------------------------------- | G41: =SUM(G16:G38) -> 0 | J41: Combined Cat 324E & Cat 329E = | M41: 397.43 | N41: 2
F42: HOURS PER HECTARE -------------------------------------- | G42: =(G41/3600) -> 0 | I42: =(G42*M42) -> 0 | L42: Avg. rate = | M42: =M41/N41 -> 198.715
A43: ROOT DISEASE COST PER HA.($600/HA Min.) ---------------------- | G43: =IF(I42<=600,600,I42) -> 600
F44: TOTAL COST ESTIMATE = | G44: =(G43*F8) -> #VALUE!
A47: SIGNATURE:

Sheet sheet3
D1: ROOT DISEASE CONTROL
D3: Valid July 1, 2015
D4: End Date subject to IAM amendments and machine rate changes.
A5: DISTRICT | B5: Kamloops | E5: RUN DATE ------ | F5: =NOW() -> 42739.562
A6: MARK | B6: =Calculations!B3 -> BJ4645 | E6: EFFECTIVE DATE ------ | F6: =F5 -> 42739.562
A7: BLOCK | E7: TIMBER TYPE -------
A8: ROOT DISEASE HECTARES TO BE TREATED -------------- | G8: Hectares
A10: * Lodgepole pine stems 15 cm dbh class all others 20 cm dbh class
A11: ** Use Timber Type Stems/Ha information from Total Stem Compilation.
A12: ***Live Deciduous may be combined with Live Conifers in Live Conifer column.
B13: TIMBER TYPE STEMS PER HECTARE ** | F13: TOTAL | G13: TOTAL
A14: DIAMETER | B14: LIVE | C14: LIVE*** | D14: DEAD | E14: DEAD | F14: STEMS | G14: STEMS X
A15: CLASS | B15: CONIFER* | C15: DECIDUOUS | D15: POTENTIAL* | E15: USELESS* | F15: (x2 @ 35cm.) | G15: DIAMETER
A16: 15 | F16: =B16+C16+D16+E16 -> 0 | G16: =(F16*A16) -> 0
A17: 20 | F17: =B17+C17+D17+E17 -> 0 | G17: =(F17*A17) -> 0
A18: 25 | F18: =B18+C18+D18+E18 -> 0 | G18: =(F18*A18) -> 0
A19: 30 | F19: =B19+C19+D19+E19 -> 0 | G19: =(F19*A19) -> 0
A20: 35 | F20: =(B20+C20+D20+E20)*2 -> 0 | G20: =(F20*A20) -> 0
A21: 40 | F21: =(B21+C21+D21+E21)*2 -> 0 | G21: =(F21*A21) -> 0
A22: 45 | F22: =(B22+C22+D22+E22)*2 -> 0 | G22: =(F22*A22) -> 0
A23: 50 | F23: =(B23+C23+D23+E23)*2 -> 0 | G23: =(F23*A23) -> 0
A24: 55 | F24: =(B24+C24+D24+E24)*2 -> 0 | G24: =(F24*A24) -> 0
A25: 60 | F25: =(B25+C25+D25+E25)*2 -> 0 | G25: =(F25*A25) -> 0
A26: 65 | F26: =(B26+C26+D26+E26)*2 -> 0 | G26: =(F26*A26) -> 0
A27: 70 | F27: =(B27+C27+D27+E27)*2 -> 0 | G27: =(F27*A27) -> 0
A28: 75 | F28: =(B28+C28+D28+E28)*2 -> 0 | G28: =(F28*A28) -> 0
A29: 80 | F29: =(B29+C29+D29+E29)*2 -> 0 | G29: =(F29*A29) -> 0
A30: 85 | F30: =(B30+C30+D30+E30)*2 -> 0 | G30: =(F30*A30) -> 0
A31: 90 | F31: =(B31+C31+D31+E31)*2 -> 0 | G31: =(F31*A31) -> 0
... A38: 125 | F38: =(B38+C38+D38+E38)*2 -> 0 | G38: =(F38*A38) -> 0
A39: TOTAL | B39: =SUM(B16:B38) -> 0 | C39: =SUM(C16:C38) -> 0 | D39: =SUM(D16:D38) -> 0 | E39: =SUM(E16:E38) -> 0
J40: Machine Rates are from current IAM Appendix I and 2013/14 Blue Book
F41: TOTAL STEMS X DIA. ----------------------------------------- | G41: =SUM(G16:G38) -> 0 | J41: Combined Cat 324E & Cat 329E = | M41: 397.43 | N41: 2
F42: HOURS PER HECTARE -------------------------------------- | G42: =(G41/3600) -> 0 | I42: =(G42*M42) -> 0 | L42: Avg. rate = | M42: =M41/N41 -> 198.715
A43: ROOT DISEASE COST PER HA.($600/HA Min.) ---------------------- | G43: =IF(I42<=600,600,I42) -> 600
F44: TOTAL COST ESTIMATE = | G44: =(G43*F8) -> #VALUE!
A47: SIGNATURE:

Sheet sheet4
D1: ROOT DISEASE CONTROL
D3: Valid July 1, 2015
D4: End Date subject to IAM amendments and machine rate changes.
A5: DISTRICT | B5: Kamloops | E5: RUN DATE ------ | F5: =NOW() -> 42739.562
A6: MARK | B6: =Calculations!B3 -> BJ4645 | E6: EFFECTIVE DATE ------ | F6: =F5 -> 42739.562
A7: BLOCK | E7: TIMBER TYPE -------
A8: ROOT DISEASE HECTARES TO BE TREATED -------------- | G8: Hectares
A10: * Lodgepole pine stems 15 cm dbh class all others 20 cm dbh class
A11: ** Use Timber Type Stems/Ha information from Total Stem Compilation.
A12: ***Live Deciduous may be combined with Live Conifers in Live Conifer column.
B13: TIMBER TYPE STEMS PER HECTARE ** | F13: TOTAL | G13: TOTAL
A14: DIAMETER | B14: LIVE | C14: LIVE*** | D14: DEAD | E14: DEAD | F14: STEMS | G14: STEMS X
A15: CLASS | B15: CONIFER* | C15: DECIDUOUS | D15: POTENTIAL* | E15: USELESS* | F15: (x2 @ 35cm.) | G15: DIAMETER
A16: 15 | F16: =B16+C16+D16+E16 -> 0 | G16: =(F16*A16) -> 0
A17: 20 | F17: =B17+C17+D17+E17 -> 0 | G17: =(F17*A17) -> 0
A18: 25 | F18: =B18+C18+D18+E18 -> 0 | G18: =(F18*A18) -> 0
A19: 30 | F19: =B19+C19+D19+E19 -> 0 | G19: =(F19*A19) -> 0
A20: 35 | F20: =(B20+C20+D20+E20)*2 -> 0 | G20: =(F20*A20) -> 0
A21: 40 | F21: =(B21+C21+D21+E21)*2 -> 0 | G21: =(F21*A21) -> 0
A22: 45 | F22: =(B22+C22+D22+E22)*2 -> 0 | G22: =(F22*A22) -> 0
A23: 50 | F23: =(B23+C23+D23+E23)*2 -> 0 | G23: =(F23*A23) -> 0
A24: 55 | F24: =(B24+C24+D24+E24)*2 -> 0 | G24: =(F24*A24) -> 0
A25: 60 | F25: =(B25+C25+D25+E25)*2 -> 0 | G25: =(F25*A25) -> 0
A26: 65 | F26: =(B26+C26+D26+E26)*2 -> 0 | G26: =(F26*A26) -> 0
A27: 70 | F27: =(B27+C27+D27+E27)*2 -> 0 | G27: =(F27*A27) -> 0
A28: 75 | F28: =(B28+C28+D28+E28)*2 -> 0 | G28: =(F28*A28) -> 0
A29: 80 | F29: =(B29+C29+D29+E29)*2 -> 0 | G29: =(F29*A29) -> 0
A30: 85 | F30: =(B30+C30+D30+E30)*2 -> 0 | G30: =(F30*A30) -> 0
A31: 90 | F31: =(B31+C31+D31+E31)*2 -> 0 | G31: =(F31*A31) -> 0
... A38: 125 | F38: =(B38+C38+D38+E38)*2 -> 0 | G38: =(F38*A38) -> 0
A39: TOTAL | B39: =SUM(B16:B38) -> 0 | C39: =SUM(C16:C38) -> 0 | D39: =SUM(D16:D38) -> 0 | E39: =SUM(E16:E38) -> 0
J40: Machine Rates are from current IAM Appendix I and 2013/14 Blue Book
F41: TOTAL STEMS X DIA. ----------------------------------------- | G41: =SUM(G16:G38) -> 0 | J41: Combined Cat 324E & Cat 329E = | M41: 397.43 | N41: 2
F42: HOURS PER HECTARE -------------------------------------- | G42: =(G41/3600) -> 0 | I42: =(G42*M42) -> 0 | L42: Avg. rate = | M42: =M41/N41 -> 198.715
A43: ROOT DISEASE COST PER HA.($600/HA Min.) ---------------------- | G43: =IF(I42<=600,600,I42) -> 600
F44: TOTAL COST ESTIMATE = | G44: =(G43*F8) -> #VALUE!
A47: SIGNATURE:

Sheet sheet5
D1: ROOT DISEASE CONTROL
D3: Valid July 1, 2015
D4: End Date subject to IAM amendments and machine rate changes.
A5: DISTRICT | B5: Kamloops | E5: RUN DATE ------ | F5: =NOW() -> 42739.562
A6: MARK | B6: =Calculations!B3 -> BJ4645 | E6: EFFECTIVE DATE ------ | F6: =F5 -> 42739.562
A7: BLOCK | E7: TIMBER TYPE -------
A8: ROOT DISEASE HECTARES TO BE TREATED -------------- | G8: Hectares
A10: * Lodgepole pine stems 15 cm dbh class all others 20 cm dbh class
A11: ** Use Timber Type Stems/Ha information from Total Stem Compilation.
A12: ***Live Deciduous may be combined with Live Conifers in Live Conifer column.
B13: TIMBER TYPE STEMS PER HECTARE ** | F13: TOTAL | G13: TOTAL
A14: DIAMETER | B14: LIVE | C14: LIVE*** | D14: DEAD | E14: DEAD | F14: STEMS | G14: STEMS X
A15: CLASS | B15: CONIFER* | C15: DECIDUOUS | D15: POTENTIAL* | E15: USELESS* | F15: (x2 @ 35cm.) | G15: DIAMETER
A16: 15 | F16: =B16+C16+D16+E16 -> 0 | G16: =(F16*A16) -> 0
A17: 20 | F17: =B17+C17+D17+E17 -> 0 | G17: =(F17*A17) -> 0
A18: 25 | F18: =B18+C18+D18+E18 -> 0 | G18: =(F18*A18) -> 0
A19: 30 | F19: =B19+C19+D19+E19 -> 0 | G19: =(F19*A19) -> 0
A20: 35 | F20: =(B20+C20+D20+E20)*2 -> 0 | G20: =(F20*A20) -> 0
A21: 40 | F21: =(B21+C21+D21+E21)*2 -> 0 | G21: =(F21*A21) -> 0
A22: 45 | F22: =(B22+C22+D22+E22)*2 -> 0 | G22: =(F22*A22) -> 0
A23: 50 | F23: =(B23+C23+D23+E23)*2 -> 0 | G23: =(F23*A23) -> 0
A24: 55 | F24: =(B24+C24+D24+E24)*2 -> 0 | G24: =(F24*A24) -> 0
A25: 60 | F25: =(B25+C25+D25+E25)*2 -> 0 | G25: =(F25*A25) -> 0
A26: 65 | F26: =(B26+C26+D26+E26)*2 -> 0 | G26: =(F26*A26) -> 0
A27: 70 | F27: =(B27+C27+D27+E27)*2 -> 0 | G27: =(F27*A27) -> 0
A28: 75 | F28: =(B28+C28+D28+E28)*2 -> 0 | G28: =(F28*A28) -> 0
A29: 80 | F29: =(B29+C29+D29+E29)*2 -> 0 | G29: =(F29*A29) -> 0
A30: 85 | F30: =(B30+C30+D30+E30)*2 -> 0 | G30: =(F30*A30) -> 0
A31: 90 | F31: =(B31+C31+D31+E31)*2 -> 0 | G31: =(F31*A31) -> 0
... A38: 125 | F38: =(B38+C38+D38+E38)*2 -> 0 | G38: =(F38*A38) -> 0
A39: TOTAL | B39: =SUM(B16:B38) -> 0 | C39: =SUM(C16:C38) -> 0 | D39: =SUM(D16:D38) -> 0 | E39: =SUM(E16:E38) -> 0
J40: Machine Rates are from current IAM Appendix I and 2013/14 Blue Book
F41: TOTAL STEMS X DIA. ----------------------------------------- | G41: =SUM(G16:G38) -> 0 | J41: Combined Cat 324E & Cat 329E = | M41: 397.43 | N41: 2
F42: HOURS PER HECTARE -------------------------------------- | G42: =(G41/3600) -> 0 | I42: =(G42*M42) -> 0 | L42: Avg. rate = | M42: =M41/N41 -> 198.715
A43: ROOT DISEASE COST PER HA.($600/HA Min.) ---------------------- | G43: =IF(I42<=600,600,I42) -> 600
F44: TOTAL COST ESTIMATE = | G44: =(G43*F8) -> #VALUE!
A47: SIGNATURE:

Sheet sheet6
D1: ROOT DISEASE CONTROL
D3: Valid July 1, 2015
D4: End Date subject to IAM amendments and machine rate changes.
A5: DISTRICT | B5: Kamloops | E5: RUN DATE ------ | F5: =NOW() -> 42739.562
A6: MARK | B6: =Calculations!B3 -> BJ4645 | E6: EFFECTIVE DATE ------ | F6: =F5 -> 42739.562
A7: BLOCK | E7: TIMBER TYPE -------
A8: ROOT DISEASE HECTARES TO BE TREATED -------------- | G8: Hectares
A10: * Lodgepole pine stems 15 cm dbh class all others 20 cm dbh class
A11: ** Use Timber Type Stems/Ha information from Total Stem Compilation.
A12: ***Live Deciduous may be combined with Live Conifers in Live Conifer column.
B13: TIMBER TYPE STEMS PER HECTARE ** | F13: TOTAL | G13: TOTAL
A14: DIAMETER | B14: LIVE | C14: LIVE*** | D14: DEAD | E14: DEAD | F14: STEMS | G14: STEMS X
A15: CLASS | B15: CONIFER* | C15: DECIDUOUS | D15: POTENTIAL* | E15: USELESS* | F15: (x2 @ 35cm.) | G15: DIAMETER
A16: 15 | F16: =B16+C16+D16+E16 -> 0 | G16: =(F16*A16) -> 0
A17: 20 | F17: =B17+C17+D17+E17 -> 0 | G17: =(F17*A17) -> 0
A18: 25 | F18: =B18+C18+D18+E18 -> 0 | G18: =(F18*A18) -> 0
A19: 30 | F19: =B19+C19+D19+E19 -> 0 | G19: =(F19*A19) -> 0
A20: 35 | F20: =(B20+C20+D20+E20)*2 -> 0 | G20: =(F20*A20) -> 0
A21: 40 | F21: =(B21+C21+D21+E21)*2 -> 0 | G21: =(F21*A21) -> 0
A22: 45 | F22: =(B22+C22+D22+E22)*2 -> 0 | G22: =(F22*A22) -> 0
A23: 50 | F23: =(B23+C23+D23+E23)*2 -> 0 | G23: =(F23*A23) -> 0
A24: 55 | F24: =(B24+C24+D24+E24)*2 -> 0 | G24: =(F24*A24) -> 0
A25: 60 | F25: =(B25+C25+D25+E25)*2 -> 0 | G25: =(F25*A25) -> 0
A26: 65 | F26: =(B26+C26+D26+E26)*2 -> 0 | G26: =(F26*A26) -> 0
A27: 70 | F27: =(B27+C27+D27+E27)*2 -> 0 | G27: =(F27*A27) -> 0
A28: 75 | F28: =(B28+C28+D28+E28)*2 -> 0 | G28: =(F28*A28) -> 0
A29: 80 | F29: =(B29+C29+D29+E29)*2 -> 0 | G29: =(F29*A29) -> 0
A30: 85 | F30: =(B30+C30+D30+E30)*2 -> 0 | G30: =(F30*A30) -> 0
A31: 90 | F31: =(B31+C31+D31+E31)*2 -> 0 | G31: =(F31*A31) -> 0
... A38: 125 | F38: =(B38+C38+D38+E38)*2 -> 0 | G38: =(F38*A38) -> 0
A39: TOTAL | B39: =SUM(B16:B38) -> 0 | C39: =SUM(C16:C38) -> 0 | D39: =SUM(D16:D38) -> 0 | E39: =SUM(E16:E38) -> 0
J40: Machine Rates are from current IAM Appendix I and 2013/14 Blue Book
F41: TOTAL STEMS X DIA. ----------------------------------------- | G41: =SUM(G16:G38) -> 0 | J41: Combined Cat 324E & Cat 329E = | M41: 397.43 | N41: 2
F42: HOURS PER HECTARE -------------------------------------- | G42: =(G41/3600) -> 0 | I42: =(G42*M42) -> 0 | L42: Avg. rate = | M42: =M41/N41 -> 198.715
A43: ROOT DISEASE COST PER HA.($600/HA Min.) ---------------------- | G43: =IF(I42<=600,600,I42) -> 600
F44: TOTAL COST ESTIMATE = | G44: =(G43*F8) -> #VALUE!
A47: SIGNATURE:

Sheet sheet7
D1: ROOT DISEASE CONTROL
D3: Valid July 1, 2015
D4: End Date subject to IAM amendments and machine rate changes.
A5: DISTRICT | B5: Kamloops | E5: RUN DATE ------ | F5: =NOW() -> 42739.562
A6: MARK | B6: =Calculations!B3 -> BJ4645 | E6: EFFECTIVE DATE ------ | F6: =F5 -> 42739.562
A7: BLOCK | E7: TIMBER TYPE -------
A8: ROOT DISEASE HECTARES TO BE TREATED -------------- | G8: Hectares
A10: * Lodgepole pine stems 15 cm dbh class all others 20 cm dbh class
A11: ** Use Timber Type Stems/Ha information from Total Stem Compilation.
A12: ***Live Deciduous may be combined with Live Conifers in Live Conifer column.
B13: TIMBER TYPE STEMS PER HECTARE ** | F13: TOTAL | G13: TOTAL
A14: DIAMETER | B14: LIVE | C14: LIVE*** | D14: DEAD | E14: DEAD | F14: STEMS | G14: STEMS X
A15: CLASS | B15: CONIFER* | C15: DECIDUOUS | D15: POTENTIAL* | E15: USELESS* | F15: (x2 @ 35cm.) | G15: DIAMETER
A16: 15 | F16: =B16+C16+D16+E16 -> 0 | G16: =(F16*A16) -> 0
A17: 20 | F17: =B17+C17+D17+E17 -> 0 | G17: =(F17*A17) -> 0
A18: 25 | F18: =B18+C18+D18+E18 -> 0 | G18: =(F18*A18) -> 0
A19: 30 | F19: =B19+C19+D19+E19 -> 0 | G19: =(F19*A19) -> 0
A20: 35 | F20: =(B20+C20+D20+E20)*2 -> 0 | G20: =(F20*A20) -> 0
A21: 40 | F21: =(B21+C21+D21+E21)*2 -> 0 | G21: =(F21*A21) -> 0
A22: 45 | F22: =(B22+C22+D22+E22)*2 -> 0 | G22: =(F22*A22) -> 0
A23: 50 | F23: =(B23+C23+D23+E23)*2 -> 0 | G23: =(F23*A23) -> 0
A24: 55 | F24: =(B24+C24+D24+E24)*2 -> 0 | G24: =(F24*A24) -> 0
A25: 60 | F25: =(B25+C25+D25+E25)*2 -> 0 | G25: =(F25*A25) -> 0
A26: 65 | F26: =(B26+C26+D26+E26)*2 -> 0 | G26: =(F26*A26) -> 0
A27: 70 | F27: =(B27+C27+D27+E27)*2 -> 0 | G27: =(F27*A27) -> 0
A28: 75 | F28: =(B28+C28+D28+E28)*2 -> 0 | G28: =(F28*A28) -> 0
A29: 80 | F29: =(B29+C29+D29+E29)*2 -> 0 | G29: =(F29*A29) -> 0
A30: 85 | F30: =(B30+C30+D30+E30)*2 -> 0 | G30: =(F30*A30) -> 0
A31: 90 | F31: =(B31+C31+D31+E31)*2 -> 0 | G31: =(F31*A31) -> 0
... A38: 125 | F38: =(B38+C38+D38+E38)*2 -> 0 | G38: =(F38*A38) -> 0
A39: TOTAL | B39: =SUM(B16:B38) -> 0 | C39: =SUM(C16:C38) -> 0 | D39: =SUM(D16:D38) -> 0 | E39: =SUM(E16:E38) -> 0
J40: Machine Rates are from current IAM Appendix I and 2013/14 Blue Book
F41: TOTAL STEMS X DIA. ----------------------------------------- | G41: =SUM(G16:G38) -> 0 | J41: Combined Cat 324E & Cat 329E = | M41: 397.43 | N41: 2
F42: HOURS PER HECTARE -------------------------------------- | G42: =(G41/3600) -> 0 | I42: =(G42*M42) -> 0 | L42: Avg. rate = | M42: =M41/N41 -> 198.715
A43: ROOT DISEASE COST PER HA.($600/HA Min.) ---------------------- | G43: =IF(I42<=600,600,I42) -> 600
F44: TOTAL COST ESTIMATE = | G44: =(G43*F8) -> #VALUE!
A47: SIGNATURE:
